BEGIN:VCALENDAR
VERSION:2.0
PRODID:-//AudioTheme 3.0.2
BEGIN:VEVENT
UID:http://www.diesterne.de/?post_type=audiotheme_gig&#038;p=3120
URL:https://www.diesterne.de/termine/2020-02-12-2/
DTSTART;TZID=GMT:20200212T180000
SUMMARY:Bielefeld
DESCRIPTION:Support: Die Realität
LOCATION:Nr. z. P.\, Große-Kurfürsten-Straße 81\, Bielefeld\, Nordrhein Westfalen\, Deutschland\, D-33615
END:VEVENT
END:VCALENDAR
