BEGIN:VCALENDAR
VERSION:2.0
PRODID:-//AudioTheme 3.0.2
BEGIN:VEVENT
UID:http://www.diesterne.de/?post_type=audiotheme_gig&#038;p=3129
URL:https://www.diesterne.de/termine/2020-02-12/
DTSTART;TZID=GMT:20200213T190000
SUMMARY:Essen
DESCRIPTION:Support: Die Realität
LOCATION:Hotel Shanghai\,   Steelerstr. 33\, Essen\, Nordrhein Westfalen\, Deutschland\, 45127
END:VEVENT
END:VCALENDAR
