BEGIN:VCALENDAR
VERSION:2.0
PRODID:-//AudioTheme 3.0.2
BEGIN:VEVENT
UID:http://www.diesterne.de/?post_type=audiotheme_gig&#038;p=3131
URL:https://www.diesterne.de/termine/2020-02-14/
DTSTART;TZID=GMT:20200214T000000
SUMMARY:Karlsruhe
DESCRIPTION:Support: Die Realität
LOCATION:Kohi\, Werderstrasse 47\,  Karlsruhe\, \, Germany\, 76137
END:VEVENT
END:VCALENDAR
