BEGIN:VCALENDAR
VERSION:2.0
PRODID:-//AudioTheme 3.0.2
BEGIN:VEVENT
UID:http://www.diesterne.de/?post_type=audiotheme_gig&#038;p=3133
URL:https://www.diesterne.de/termine/2020-02-15/
DTSTART;TZID=GMT:20200215T190000
SUMMARY:Hannover
DESCRIPTION:Support: Die Realität
LOCATION:Béi Chéz Heinz\, Liepmannstraße 7b  D-30453 Hannover\, Hannover\, \, Germany
END:VEVENT
END:VCALENDAR
