BEGIN:VCALENDAR
VERSION:2.0
PRODID:-//AudioTheme 3.0.2
BEGIN:VEVENT
UID:http://www.diesterne.de/?post_type=audiotheme_gig&#038;p=3134
URL:https://www.diesterne.de/termine/2020-03-06/
DTSTART;TZID=GMT:20200306T000000
SUMMARY:Köln
DESCRIPTION:Ausverkauft - Sold Out
LOCATION:Gebäude 9\, Deutz-Mülheimer-Str. 127 - 129\, Köln\, \, 51063
END:VEVENT
END:VCALENDAR
