BEGIN:VCALENDAR
VERSION:2.0
PRODID:-//AudioTheme 3.0.2
BEGIN:VEVENT
UID:http://www.diesterne.de/?post_type=audiotheme_gig&#038;p=3138
URL:https://www.diesterne.de/termine/2020-03-08/
DTSTART;TZID=GMT:20200308T190000
SUMMARY:Stuttgart
LOCATION:Merlin\, Augustenstraße 72\, Stuttgart\, Baden Würtenberg\, Deutschland\, 70178
END:VEVENT
END:VCALENDAR
