BEGIN:VCALENDAR
VERSION:2.0
PRODID:-//AudioTheme 3.0.2
BEGIN:VEVENT
UID:http://www.diesterne.de/?post_type=audiotheme_gig&#038;p=3140
URL:https://www.diesterne.de/termine/2020-03-11/
DTSTART;TZID=GMT:20200311T000000
SUMMARY:München
DESCRIPTION:Ausverkauft - Sold Out
LOCATION:Ampere\, Zellstraße 4\, 81667 München\, München\, Bavaria
END:VEVENT
END:VCALENDAR
