BEGIN:VCALENDAR
VERSION:2.0
PRODID:-//AudioTheme 3.0.2
BEGIN:VEVENT
UID:https://www.diesterne.de/?post_type=audiotheme_gig&#038;p=3447
URL:https://www.diesterne.de/termine/2021-07-09/
DTSTART;TZID=GMT:20210709T180000
SUMMARY:Wuppertal
DESCRIPTION:OPEN AIR  Konzertfrühling auf der Waldbühne Hardt präsentiert: Die Sterne
LOCATION:Die Börse\, Wolkenburg 100\, Wuppertal\, \, Germany\, 42119
END:VEVENT
END:VCALENDAR
