BEGIN:VCALENDAR
VERSION:2.0
PRODID:-//AudioTheme 3.0.2
BEGIN:VEVENT
UID:https://www.diesterne.de/?post_type=audiotheme_gig&#038;p=3448
URL:https://www.diesterne.de/termine/2021-07-10/
DTSTART;TZID=GMT:20210710T180000
SUMMARY:Schorndorf
DESCRIPTION:OPEN AIR  Präsentiert von: Musikexpress\, TAZ\, Byte.FM & Kaput Magazin
LOCATION:Manufaktur\, Hammerschlag 8\, Schorndorf\, \, Germany\, 73614
END:VEVENT
END:VCALENDAR
