BEGIN:VCALENDAR
VERSION:2.0
PRODID:-//AudioTheme 3.0.2
BEGIN:VEVENT
UID:https://www.diesterne.de/?post_type=audiotheme_gig&#038;p=3449
URL:https://www.diesterne.de/termine/2021-07-11/
DTSTART;TZID=GMT:20210711T180000
SUMMARY:Leipzig
DESCRIPTION:OPEN AIR
LOCATION:Villa Hasenholz\, Gustav-Esche-Straße 1\, Leipzig\, Sachsen\, Deutschland\, Gustav-Esche-Straße 1\, 04179 Leipzig
END:VEVENT
END:VCALENDAR
