BEGIN:VCALENDAR
VERSION:2.0
PRODID:-//AudioTheme 3.0.2
BEGIN:VEVENT
UID:https://www.diesterne.de/?post_type=audiotheme_gig&#038;p=3450
URL:https://www.diesterne.de/termine/2021-07-12/
DTSTART;TZID=GMT:20210712T180000
SUMMARY:Berlin
DESCRIPTION:Special Corona Show!
LOCATION:Festsaal Kreuzberg\, Am Flutgraben 2\, 12435 Berlin\, Berlin\, 
END:VEVENT
END:VCALENDAR
