BEGIN:VCALENDAR
VERSION:2.0
PRODID:-//AudioTheme 3.0.2
BEGIN:VEVENT
UID:https://www.diesterne.de/?post_type=audiotheme_gig&#038;p=3520
URL:https://www.diesterne.de/termine/2021-07-26/
DTSTART;TZID=GMT:20210726T000000
SUMMARY:Düsseldorf
DESCRIPTION:New Fall Festival (Summer Edition) - OPEN AIR
LOCATION:New Fall Festival\, Düsseldorf\, 
END:VEVENT
END:VCALENDAR
