BEGIN:VCALENDAR
VERSION:2.0
PRODID:-//AudioTheme 3.0.2
BEGIN:VEVENT
UID:https://www.diesterne.de/?post_type=audiotheme_gig&#038;p=3928
URL:https://www.diesterne.de/termine/2024-03-13/
DTSTART;TZID=GMT:20240313T180000
SUMMARY:Hannover
LOCATION:Béi Chéz Heinz\, Liepmannstraße 7b  D-30453 Hannover\, Hannover\, \, Germany
END:VEVENT
END:VCALENDAR
