BEGIN:VCALENDAR
VERSION:2.0
PRODID:-//AudioTheme 3.0.2
BEGIN:VEVENT
UID:https://www.diesterne.de/?post_type=audiotheme_gig&#038;p=3929
URL:https://www.diesterne.de/termine/2024-03-14/
DTSTART;TZID=GMT:20240314T180000
SUMMARY:Leipzig
LOCATION:Conne Island\, Koburger Str. 3\, Leipzig\, \, Deutschland\, 04277
END:VEVENT
END:VCALENDAR
