BEGIN:VCALENDAR
VERSION:2.0
PRODID:-//AudioTheme 3.0.2
BEGIN:VEVENT
UID:https://www.diesterne.de/?post_type=audiotheme_gig&#038;p=3930
URL:https://www.diesterne.de/termine/2024-03-15/
DTSTART;TZID=GMT:20240315T170000
SUMMARY:Frankfurt
LOCATION:Zoom\, Brönnerstraße 5-9\, Frankfurt am Main\, \, Germany\, 60313 
END:VEVENT
END:VCALENDAR
