BEGIN:VCALENDAR
VERSION:2.0
PRODID:-//AudioTheme 3.0.2
BEGIN:VEVENT
UID:https://www.diesterne.de/?post_type=audiotheme_gig&#038;p=3931
URL:https://www.diesterne.de/termine/2024-03-16/
DTSTART;TZID=GMT:20240316T170000
SUMMARY:Dortmund
LOCATION:FZW\, Dortmund\, 
END:VEVENT
END:VCALENDAR
