BEGIN:VCALENDAR
VERSION:2.0
PRODID:-//AudioTheme 3.0.2
BEGIN:VEVENT
UID:https://www.diesterne.de/?post_type=audiotheme_gig&#038;p=3933
URL:https://www.diesterne.de/termine/2024-03-19/
DTSTART;TZID=GMT:20240319T183000
SUMMARY:Schorndorf
LOCATION:Manufaktur\, Hammerschlag 8\, Schorndorf\, \, Germany\, 73614
END:VEVENT
END:VCALENDAR
