BEGIN:VCALENDAR
VERSION:2.0
PRODID:-//AudioTheme 3.0.2
BEGIN:VEVENT
UID:https://www.diesterne.de/?post_type=audiotheme_gig&#038;p=3940
URL:https://www.diesterne.de/termine/2024-03-20/
DTSTART;TZID=GMT:20240320T180000
SUMMARY:Nürnberg
LOCATION:Club Stereo\, Klaragasse 8 \, Nürnberg\, Bayern\, Germany\, 90402
END:VEVENT
END:VCALENDAR
