BEGIN:VCALENDAR
VERSION:2.0
PRODID:-//AudioTheme 3.0.2
BEGIN:VEVENT
UID:https://www.diesterne.de/?post_type=audiotheme_gig&#038;p=3935
URL:https://www.diesterne.de/termine/2024-03-21/
DTSTART;TZID=GMT:20240321T180000
SUMMARY:Dresden
LOCATION:Beatpol\, Altbriesnitz 2A\, Dresden\, \, Deutschland\, 01157
END:VEVENT
END:VCALENDAR
