BEGIN:VCALENDAR
VERSION:2.0
PRODID:-//AudioTheme 3.0.2
BEGIN:VEVENT
UID:https://www.diesterne.de/?post_type=audiotheme_gig&#038;p=3937
URL:https://www.diesterne.de/termine/2024-03-22/
DTSTART;TZID=GMT:20240322T190000
SUMMARY:Berlin
LOCATION:Festsaal Kreuzberg\, Am Flutgraben 2\, 12435 Berlin\, Berlin\, 
END:VEVENT
END:VCALENDAR
