BEGIN:VCALENDAR
VERSION:2.0
PRODID:-//AudioTheme 3.0.2
BEGIN:VEVENT
UID:https://www.diesterne.de/?post_type=audiotheme_gig&#038;p=3938
URL:https://www.diesterne.de/termine/2024-03-23/
DTSTART;TZID=GMT:20240323T190000
SUMMARY:Hamburg
LOCATION:Knust\, Neuer Kamp 30\, Hamburg\, \, Germany\, 20357
END:VEVENT
END:VCALENDAR
