BEGIN:VCALENDAR
VERSION:2.0
PRODID:-//AudioTheme 3.0.2
BEGIN:VEVENT
UID:https://www.diesterne.de/?post_type=audiotheme_gig&#038;p=3975
URL:https://www.diesterne.de/termine/2024-05-10/
DTSTART;TZID=GMT:20240510T170000
SUMMARY:Dornbirn
LOCATION:Spielboden\, Dornbirn\, 
END:VEVENT
END:VCALENDAR
