BEGIN:VCALENDAR
VERSION:2.0
PRODID:-//AudioTheme 3.0.2
BEGIN:VEVENT
UID:https://www.diesterne.de/?post_type=audiotheme_gig&#038;p=4037
URL:https://www.diesterne.de/termine/2024-07-26/
DTSTART;VALUE=DATE:20240726
SUMMARY:Dangast
LOCATION:Watt en Schlick Festival\, Dangast\, 
END:VEVENT
END:VCALENDAR
