BEGIN:VCALENDAR
VERSION:2.0
PRODID:-//AudioTheme 3.0.2
BEGIN:VEVENT
UID:https://www.diesterne.de/?post_type=audiotheme_gig&#038;p=4041
URL:https://www.diesterne.de/termine/2024-11-07/
DTSTART;VALUE=DATE:20241107
SUMMARY:Jena
LOCATION:Kassablanca\, Jena\, 
END:VEVENT
END:VCALENDAR
