BEGIN:VCALENDAR
VERSION:2.0
PRODID:-//AudioTheme 3.0.2
BEGIN:VEVENT
UID:https://www.diesterne.de/?post_type=audiotheme_gig&#038;p=4043
URL:https://www.diesterne.de/termine/2024-11-08/
DTSTART;VALUE=DATE:20241108
SUMMARY:Karlsruhe
LOCATION:ARD Hörspieltage\, Karlsruhe\, 
END:VEVENT
END:VCALENDAR
