BEGIN:VCALENDAR
VERSION:2.0
PRODID:-//AudioTheme 3.0.2
BEGIN:VEVENT
UID:https://www.diesterne.de/?post_type=audiotheme_gig&#038;p=4045
URL:https://www.diesterne.de/termine/2024-11-09/
DTSTART;VALUE=DATE:20241109
SUMMARY:Köln
LOCATION:Luxor\, Luxemburger Str. 40\, Köln\, \, Germany\, 50674
END:VEVENT
END:VCALENDAR
