BEGIN:VCALENDAR
VERSION:2.0
PRODID:-//AudioTheme 3.0.2
BEGIN:VEVENT
UID:https://www.diesterne.de/?post_type=audiotheme_gig&#038;p=4077
URL:https://www.diesterne.de/termine/2025-02-20/
DTSTART;VALUE=DATE:20250220
SUMMARY:Weinheim
LOCATION:Cafe Central\, Weinheim\, 
END:VEVENT
END:VCALENDAR
