BEGIN:VCALENDAR
VERSION:2.0
PRODID:-//AudioTheme 3.0.2
BEGIN:VEVENT
UID:https://www.diesterne.de/?post_type=audiotheme_gig&#038;p=4087
URL:https://www.diesterne.de/termine/2025-08-02/
DTSTART;VALUE=DATE:20250802
SUMMARY:Böblingen
LOCATION:Böblinger Songtage\, Böblingen\,\, 
END:VEVENT
END:VCALENDAR
