BEGIN:VCALENDAR
VERSION:2.0
PRODID:-//AudioTheme 3.0.2
BEGIN:VEVENT
UID:urn:uuid:bdc4a9ef-019b-4871-be15-de0a041130f5
URL:https://www.diesterne.de/termine/aachen/
DTSTART;TZID=GMT:20260610T180000
SUMMARY:Aachen
LOCATION:Musikbunker\, Aachen\, 
END:VEVENT
END:VCALENDAR
