BEGIN:VCALENDAR
VERSION:2.0
PRODID:-//AudioTheme 3.0.2
BEGIN:VEVENT
UID:https://www.diesterne.de/?post_type=audiotheme_gig&#038;p=4025
URL:https://www.diesterne.de/termine/eltville-rhein/
DTSTART;VALUE=DATE:20240727
SUMMARY:Eltville – Rhein
LOCATION:Heimspiel Knyphausen\, Eltville – Rhein\, \, Germany
END:VEVENT
END:VCALENDAR
