BEGIN:VCALENDAR
VERSION:2.0
PRODID:-//AudioTheme 3.0.2
BEGIN:VEVENT
UID:urn:uuid:2df43d64-792c-4f8a-b7d1-7eaf91f8cecd
URL:https://www.diesterne.de/termine/essen-2/
DTSTART;TZID=GMT:20260611T180000
SUMMARY:Essen
LOCATION:Zeche Carl Open Air\, Zeche\, 
END:VEVENT
END:VCALENDAR
