BEGIN:VCALENDAR
VERSION:2.0
PRODID:-//AudioTheme 3.0.2
BEGIN:VEVENT
UID:https://www.diesterne.de/?post_type=audiotheme_gig&#038;p=3551
URL:https://www.diesterne.de/termine/frankfurt-am-main/
DTSTART;TZID=GMT:20210819T160000
SUMMARY:Frankfurt am Main
LOCATION:Jahrhunderhalle Sommerwiese\, Pfaffenwiese 301\, Frankfurt am Main\, \, 65929
END:VEVENT
END:VCALENDAR
