BEGIN:VCALENDAR
VERSION:2.0
PRODID:-//AudioTheme 3.0.2
BEGIN:VEVENT
UID:https://www.diesterne.de/?post_type=audiotheme_gig&#038;p=4001
URL:https://www.diesterne.de/termine/freising-3/
DTSTART;VALUE=DATE:20240507
SUMMARY:Freising
LOCATION:Uferlos Festival Freising\, Luitpoldanlage 1\, 85356 Freising\, Freising\, \, Germany\, 85356
END:VEVENT
END:VCALENDAR
