BEGIN:VCALENDAR
VERSION:2.0
PRODID:-//AudioTheme 3.0.2
BEGIN:VEVENT
UID:https://www.diesterne.de/?post_type=audiotheme_gig&#038;p=4016
URL:https://www.diesterne.de/termine/hamburg-24/
DTSTART;VALUE=DATE:20240919
SUMMARY:Hamburg
DESCRIPTION:Weitere Infos und VVK: TBA
LOCATION:MS Stubnitz\, Kirchenpauerkai 29\, Hamburg\, \, 20457
END:VEVENT
END:VCALENDAR
