BEGIN:VCALENDAR
VERSION:2.0
PRODID:-//AudioTheme 3.0.2
BEGIN:VEVENT
UID:https://www.diesterne.de/?post_type=audiotheme_gig&#038;p=4027
URL:https://www.diesterne.de/termine/husum/
DTSTART;VALUE=DATE:20240920
SUMMARY:Husum
LOCATION:Speicher Husum\, Hafenstraße 17\, Husum\, \, Deutschland\, 25813
END:VEVENT
END:VCALENDAR
