BEGIN:VCALENDAR
VERSION:2.0
PRODID:-//AudioTheme 3.0.2
BEGIN:VEVENT
UID:https://www.diesterne.de/?post_type=audiotheme_gig&#038;p=3564
URL:https://www.diesterne.de/termine/innsbruck-5/
DTSTART;TZID=GMT:20210905T180000
SUMMARY:Innsbruck
DESCRIPTION:Heart Of Noise Festival Innsbruck
LOCATION:Congress Dogana\, Rennweg 3\, Innsbruck\, Tirol\, Austria\, 6020
END:VEVENT
END:VCALENDAR
