BEGIN:VCALENDAR
VERSION:2.0
PRODID:-//AudioTheme 3.0.2
BEGIN:VEVENT
UID:http://www.diesterne.de/?post_type=audiotheme_gig&#038;p=3274
URL:https://www.diesterne.de/termine/kaiserslautern-2/
DTSTART;TZID=GMT:20211008T180000
SUMMARY:Kaiserslautern
DESCRIPTION:Verlegt aus Februar 2021
LOCATION:Kammgarn\, Schoenstraße 10\, Kaiserslautern\, \, Germany\, 67659
END:VEVENT
END:VCALENDAR
