BEGIN:VCALENDAR
VERSION:2.0
PRODID:-//AudioTheme 3.0.2
BEGIN:VEVENT
UID:https://www.diesterne.de/?post_type=audiotheme_gig&#038;p=3468
URL:https://www.diesterne.de/termine/koeln-18/
DTSTART;TZID=GMT:20211007T000000
SUMMARY:Köln
LOCATION:Gebäude 9\, Deutz-Mülheimer-Str. 127 - 129\, Köln\, \, 51063
END:VEVENT
END:VCALENDAR
