BEGIN:VCALENDAR
VERSION:2.0
PRODID:-//AudioTheme 3.0.2
BEGIN:VEVENT
UID:http://www.diesterne.de/?post_type=audiotheme_gig&#038;p=2827
URL:https://www.diesterne.de/termine/koeln-king-georg/
DTSTART;TZID=GMT:20180907T000000
SUMMARY:Köln - King Georg
DESCRIPTION:Es wird eng und heiß: Mach's Besser
LOCATION:King Georg\, Köln\, 
END:VEVENT
END:VCALENDAR
