BEGIN:VCALENDAR
VERSION:2.0
PRODID:-//AudioTheme 3.0.2
BEGIN:VEVENT
UID:https://www.diesterne.de/?post_type=audiotheme_gig&#038;p=4012
URL:https://www.diesterne.de/termine/krefeld-2/
DTSTART;VALUE=DATE:20240907
SUMMARY:Krefeld - Open Air
LOCATION:Schlachthof Krefeld\, Dießemer Str. 9\, Krefeld\, Deutschland\, 47799
END:VEVENT
END:VCALENDAR
