BEGIN:VCALENDAR
VERSION:2.0
PRODID:-//AudioTheme 3.0.2
BEGIN:VEVENT
UID:http://www.diesterne.de/?post_type=audiotheme_gig&#038;p=2810
URL:https://www.diesterne.de/termine/kuahgartn-open-air/
DTSTART;TZID=GMT:20180901T120000
SUMMARY:Kuahgartn Open Air
DESCRIPTION:Die Sterne als Headliner beim Kuahgarten. Infos - Alle Infos - siehe Link.
LOCATION:Freilufttheater am Stoa\, Kesselsee Straße  \, Edling\, \, Germany\, 83533 
END:VEVENT
END:VCALENDAR
