BEGIN:VCALENDAR
VERSION:2.0
PRODID:-//AudioTheme 3.0.2
BEGIN:VEVENT
UID:http://www.diesterne.de/?post_type=audiotheme_gig&#038;p=2854
URL:https://www.diesterne.de/termine/lieblingsplatte-posen/
DTSTART;TZID=GMT:20181212T000000
SUMMARY:Lieblingsplatte: Posen
DESCRIPTION:Das Album Posen von 1996 wird komplett auf die Bühne gebracht. Inklusive "Schnorrvögel" und "Frank Orgel"
LOCATION:Zakk\, Düsseldorf\, 
END:VEVENT
END:VCALENDAR
