BEGIN:VCALENDAR
VERSION:2.0
PRODID:-//AudioTheme 3.0.2
BEGIN:VEVENT
UID:https://www.diesterne.de/?post_type=audiotheme_gig&#038;p=4039
URL:https://www.diesterne.de/termine/neubrandenburg/
DTSTART;VALUE=DATE:20240921
SUMMARY:Neubrandenburg
LOCATION:Studio am See\, Neubrandenburg\, 
END:VEVENT
END:VCALENDAR
