BEGIN:VCALENDAR
VERSION:2.0
PRODID:-//AudioTheme 3.0.2
BEGIN:VEVENT
UID:https://www.diesterne.de/?post_type=audiotheme_gig&#038;p=3550
URL:https://www.diesterne.de/termine/nuernberg-5/
DTSTART;VALUE=DATE:20211009
SUMMARY:Nürnberg
LOCATION:Nürnberg POP\, Königstraße 93\, Nürnberg\, \, 90402
END:VEVENT
END:VCALENDAR
