BEGIN:VCALENDAR
VERSION:2.0
PRODID:-//AudioTheme 3.0.2
BEGIN:VEVENT
UID:https://www.diesterne.de/?post_type=audiotheme_gig&#038;p=4008
URL:https://www.diesterne.de/termine/offenbach-2/
DTSTART;VALUE=DATE:20240906
SUMMARY:Offenbach
LOCATION:Riviera Festival\, Herrnstraße 61\, Offenbach am Main\, Deutschland\, 63065
END:VEVENT
END:VCALENDAR
