BEGIN:VCALENDAR
VERSION:2.0
PRODID:-//AudioTheme 3.0.2
BEGIN:VEVENT
UID:https://www.diesterne.de/?post_type=audiotheme_gig&#038;p=4021
URL:https://www.diesterne.de/termine/petzen-at/
DTSTART;VALUE=DATE:20240824
SUMMARY:Petzen AT
LOCATION:Fuzzstock Festival\, 46°32'35.0"N 14°46'29.2"E  Feistritz ob Bleiburg\, Petzen AT\, \, Austria\, 9143
END:VEVENT
END:VCALENDAR
