BEGIN:VCALENDAR
VERSION:2.0
PRODID:-//AudioTheme 3.0.2
BEGIN:VEVENT
UID:https://www.diesterne.de/?post_type=audiotheme_gig&#038;p=3544
URL:https://www.diesterne.de/termine/pool-spiders-vol-1/
DTSTART;TZID=GMT:20210813T150000
SUMMARY:Pool Spiders Vol 1
LOCATION:Pool Spiders Open Air\, Erlebnisbad Oederan - Hainichener Str. 45\, Oederan\, \, Germany\, 09569
END:VEVENT
END:VCALENDAR
