BEGIN:VCALENDAR
VERSION:2.0
PRODID:-//AudioTheme 3.0.2
BEGIN:VEVENT
UID:http://www.diesterne.de/?post_type=audiotheme_gig&#038;p=3215
URL:https://www.diesterne.de/termine/postgarage/
DTSTART;TZID=GMT:20200309T183000
SUMMARY:Postgarage
DESCRIPTION:Die Sterne 2020. Jetzt auch in Graz.
LOCATION:Postgarage\, Dreihackengasse 42\, Graz\, Steiermark\, Österreich \, A-8020
END:VEVENT
END:VCALENDAR
