BEGIN:VCALENDAR
VERSION:2.0
PRODID:-//AudioTheme 3.0.2
BEGIN:VEVENT
UID:urn:uuid:7019efa1-0f85-44c2-8de9-f12c6a267ca5
URL:https://www.diesterne.de/termine/rosenheim/
DTSTART;VALUE=DATE:20250803
SUMMARY:Rosenheim
LOCATION:Asta\, Astalive Festival Rosenheim\, Rosenheim\, 
END:VEVENT
END:VCALENDAR
