BEGIN:VCALENDAR
VERSION:2.0
PRODID:-//AudioTheme 3.0.2
BEGIN:VEVENT
UID:https://www.diesterne.de/?post_type=audiotheme_gig&#038;p=3992
URL:https://www.diesterne.de/termine/uebersee/
DTSTART;TZID=GMT:20240511T180000
SUMMARY:Übersee
LOCATION:Freiraum e.V.\, Bahnhofstr. 32\, 83236 Übersee\, Übersee\, 
END:VEVENT
END:VCALENDAR
